Workbook

Sheet Kupci
A1: POTRAŽIVANJA OD KUPACA
K3: Stanje na zadnji dan u mjesecu:
A4: IME KLIJENTA:
A6: Naziv kupca (u zemlji) | C6: Ukupan promet u prethodnoj godini (u EUR) | D6: Ukupan promet u tekućoj godini (u EUR) | E6: Udio | F6: Dospjela potraživanja (do 30 dana) | G6: Dospjela potraživanja (30-90 dana) | H6: Dospjela potraživanja (preko 90 dana) | I6: Dospjela potraživanja (ukupno) | J6: Broj dana kašnjenja (od-do) | K6: Nedospjela potraživanja (ukupno u EUR) | L6: Ukupna potraživanja (dospjela + nedospjela) | M6: Ugovoreni broj dana za naplatu potraživanja
E7: =IF($D$34=0,0%,D7/$D$34) -> 0 | I7: =SUM(F7:H7) -> 0 | L7: =I7+K7 -> 0
E8: =IF($D$34=0,0%,D8/$D$34) -> 0 | I8: =SUM(F8:H8) -> 0 | L8: =I8+K8 -> 0
E9: =IF($D$34=0,0%,D9/$D$34) -> 0 | I9: =SUM(F9:H9) -> 0 | L9: =I9+K9 -> 0
E10: =IF($D$34=0,0%,D10/$D$34) -> 0 | I10: =SUM(F10:H10) -> 0 | L10: =I10+K10 -> 0
E11: =IF($D$34=0,0%,D11/$D$34) -> 0 | I11: =SUM(F11:H11) -> 0 | L11: =I11+K11 -> 0
E12: =IF($D$34=0,0%,D12/$D$34) -> 0 | I12: =SUM(F12:H12) -> 0 | L12: =I12+K12 -> 0
E13: =IF($D$34=0,0%,D13/$D$34) -> 0 | I13: =SUM(F13:H13) -> 0 | L13: =I13+K13 -> 0
E14: =IF($D$34=0,0%,D14/$D$34) -> 0 | I14: =SUM(F14:H14) -> 0 | L14: =I14+K14 -> 0
E15: =IF($D$34=0,0%,D15/$D$34) -> 0 | I15: =SUM(F15:H15) -> 0 | L15: =I15+K15 -> 0
E16: =IF($D$34=0,0%,D16/$D$34) -> 0 | I16: =SUM(F16:H16) -> 0 | L16: =I16+K16 -> 0
A17: Ostali | E17: =IF($D$34=0,0%,D17/$D$34) -> 0 | I17: =SUM(F17:H17) -> 0 | L17: =I17+K17 -> 0
A18: UKUPNO | C18: =SUM(C7:C17) -> 0 | D18: =SUM(D7:D17) -> 0 | E18: =SUM(E7:E17) -> 0 | F18: =SUM(F7:F17) -> 0 | G18: =SUM(G7:G17) -> 0 | H18: =SUM(H7:H17) -> 0 | I18: =SUM(I7:I17) -> 0 | K18: =SUM(K7:K17) -> 0 | L18: =SUM(L7:L17) -> 0
A20: Naziv kupca (u inozemstvu) | C20: Ukupan promet u prethodnoj godini (u EUR) | D20: Ukupan promet u tekućoj godini (u EUR) | E20: Udio | F20: Dospjela potraživanja (do 30 dana) | G20: Dospjela potraživanja (30-90 dana) | H20: Dospjela potraživanja (preko 90 dana) | I20: Dospjela potraživanja (ukupno) | J20: Broj dana kašnjenja (od-do) | K20: Nedospjela potraživanja (ukupno u EUR) | L20: Ukupna potraživanja (dospjela + nedospjela) | M20: Ugovoreni broj dana za naplatu potraživanja
E21: =IF($D$34=0,0%,D21/$D$34) -> 0 | I21: =SUM(F21:H21) -> 0 | L21: =I21+K21 -> 0 | P21: EUR
E22: =IF($D$34=0,0%,D22/$D$34) -> 0 | I22: =SUM(F22:H22) -> 0 | L22: =I22+K22 -> 0 | P22: USD
E23: =IF($D$34=0,0%,D23/$D$34) -> 0 | I23: =SUM(F23:H23) -> 0 | L23: =I23+K23 -> 0 | P23: AUD
E24: =IF($D$34=0,0%,D24/$D$34) -> 0 | I24: =SUM(F24:H24) -> 0 | L24: =I24+K24 -> 0 | P24: CAD
E25: =IF($D$34=0,0%,D25/$D$34) -> 0 | I25: =SUM(F25:H25) -> 0 | L25: =I25+K25 -> 0 | P25: DKK
E26: =IF($D$34=0,0%,D26/$D$34) -> 0 | I26: =SUM(F26:H26) -> 0 | L26: =I26+K26 -> 0 | P26: HUF
E27: =IF($D$34=0,0%,D27/$D$34) -> 0 | I27: =SUM(F27:H27) -> 0 | L27: =I27+K27 -> 0 | P27: JPY
E28: =IF($D$34=0,0%,D28/$D$34) -> 0 | I28: =SUM(F28:H28) -> 0 | L28: =I28+K28 -> 0 | P28: NOK
E29: =IF($D$34=0,0%,D29/$D$34) -> 0 | I29: =SUM(F29:H29) -> 0 | L29: =I29+K29 -> 0 | P29: SKK
E30: =IF($D$34=0,0%,D30/$D$34) -> 0 | I30: =SUM(F30:H30) -> 0 | L30: =I30+K30 -> 0 | P30: SEK
A31: Ostali | E31: =IF($D$34=0,0%,D31/$D$34) -> 0 | I31: =SUM(F31:H31) -> 0 | L31: =I31+K31 -> 0 | P31: CHF
A32: UKUPNO | C32: =SUM(C21:C31) -> 0 | D32: =SUM(D21:D31) -> 0 | E32: =IF(D32=0,0%,D32/D32) -> 0 | F32: =SUM(F21:F31) -> 0 | G32: =SUM(G21:G31) -> 0 | H32: =SUM(H21:H31) -> 0 | I32: =SUM(I21:I31) -> 0 | K32: =SUM(K21:K31) -> 0 | L32: =SUM(L21:L31) -> 0
A34: SVEUKUPNO | C34: =C32+C18 -> 0 | D34: =D32+D18 -> 0 | E34: =E32+E18 -> 0 | F34: =F32+F18 -> 0 | G34: =G32+G18 -> 0 | H34: =H32+H18 -> 0 | I34: =I32+I18 -> 0 | K34: =K32+K18 -> 0 | L34: =L32+L18 -> 0
A36: Sumnjiva i sporna potraživanja
A38: Red.br. | B38: NAZIV DUŽNIKA / KUPCA | C38: IZNOS DUGA | D38: IZNOS DUGA | E38: DATUM DOSPIJEĆA | F38: UTUŽENO DA / NE | G38: OTPISANI IZNOS POTRAŽIVANJA | H38: DATUM OTPISA U POSLOVNIM KNJIGAMA | I38: OČEKIVANA NAPLATA | J38: VJEROJATNOST NAPLATE (visoka ili niska)
C39: navesti datum (prethodna godina) | D39: navesti datum (tekuće razdoblje)
A40: 1.
A41: 2.
A42: 3.
A43: 4.
A44: 5.
B45: UKUPNO | C45: =SUM(C40:C44) -> 0 | D45: =SUM(D40:D44) -> 0 | G45: =SUM(G40:G44) -> 0 | I45: =SUM(I40:I44) -> 0

Sheet Dobavljači
A1: OBVEZE PREMA DOBAVLJAČIMA
K3: Stanje na zadnji dan u mjesecu:
A4: IME KLIJENTA: | C4: =Kupci!C4 -> 0 | K4: =Kupci!K4 -> 0
A6: Naziv dobavljača (u zemlji) | C6: Ukupan promet u prethodnoj godini (u EUR) | D6: Ukupan promet u tekućoj godini (u EUR) | E6: Udio | F6: Dospjele obveze (do 30 dana) | G6: Dospjele obveze (30-90 dana) | H6: Dospjele obveze (preko 90 dana) | I6: Dospjele obveze (ukupno u EUR) | J6: Broj dana kašnj. (od-do) | K6: Nedospjele obveze (ukupno u EUR) | L6: Ukupne obveze (dospjele + nedospjele) | M6: Ugovoreni broj dana za plaćanje obveza
E7: =IF($D$34=0,0%,D7/$D$34) -> 0 | I7: =SUM(F7:H7) -> 0 | L7: =I7+K7 -> 0
E8: =IF($D$34=0,0%,D8/$D$34) -> 0 | I8: =SUM(F8:H8) -> 0 | L8: =I8+K8 -> 0
E9: =IF($D$34=0,0%,D9/$D$34) -> 0 | I9: =SUM(F9:H9) -> 0 | L9: =I9+K9 -> 0
E10: =IF($D$34=0,0%,D10/$D$34) -> 0 | I10: =SUM(F10:H10) -> 0 | L10: =I10+K10 -> 0
E11: =IF($D$34=0,0%,D11/$D$34) -> 0 | I11: =SUM(F11:H11) -> 0 | L11: =I11+K11 -> 0
E12: =IF($D$34=0,0%,D12/$D$34) -> 0 | I12: =SUM(F12:H12) -> 0 | L12: =I12+K12 -> 0
E13: =IF($D$34=0,0%,D13/$D$34) -> 0 | I13: =SUM(F13:H13) -> 0 | L13: =I13+K13 -> 0
E14: =IF($D$34=0,0%,D14/$D$34) -> 0 | I14: =SUM(F14:H14) -> 0 | L14: =I14+K14 -> 0
E15: =IF($D$34=0,0%,D15/$D$34) -> 0 | I15: =SUM(F15:H15) -> 0 | L15: =I15+K15 -> 0
E16: =IF($D$34=0,0%,D16/$D$34) -> 0 | I16: =SUM(F16:H16) -> 0 | L16: =I16+K16 -> 0
A17: Ostali | E17: =IF($D$34=0,0%,D17/$D$34) -> 0 | I17: =SUM(F17:H17) -> 0 | L17: =I17+K17 -> 0
A18: UKUPNO | C18: =SUM(C7:C17) -> 0 | D18: =SUM(D7:D17) -> 0 | E18: =SUM(E7:E17) -> 0 | F18: =SUM(F7:F17) -> 0 | G18: =SUM(G7:G17) -> 0 | H18: =SUM(H7:H17) -> 0 | I18: =SUM(I7:I17) -> 0 | K18: =SUM(K7:K17) -> 0 | L18: =SUM(L7:L17) -> 0
A20: Naziv dobavljača (u inozemstvu) | C20: Ukupan promet u prethodnoj godini (u EUR) | D20: Ukupan promet u tekućoj godini (u EUR) | E20: Udio | F20: Dospjele obveze (do 30 dana) | G20: Dospjele obveze (30-90 dana) | H20: Dospjele obveze (preko 90 dana) | I20: Dospjele obveze (ukupno u EUR) | J20: Broj dana kašnj. (od-do) | K20: Nedospjele obveze (ukupno u EUR) | L20: Ukupne obveze (dospjele + nedospjele) | M20: Ugovoreni broj dana za plaćanje obveza
E21: =IF($D$34=0,0%,D21/$D$34) -> 0 | I21: =SUM(F21:H21) -> 0 | L21: =I21+K21 -> 0 | O21: EUR
E22: =IF($D$34=0,0%,D22/$D$34) -> 0 | I22: =SUM(F22:H22) -> 0 | L22: =I22+K22 -> 0 | O22: USD
E23: =IF($D$34=0,0%,D23/$D$34) -> 0 | I23: =SUM(F23:H23) -> 0 | L23: =I23+K23 -> 0 | O23: AUD
E24: =IF($D$34=0,0%,D24/$D$34) -> 0 | I24: =SUM(F24:H24) -> 0 | L24: =I24+K24 -> 0 | O24: CAD
E25: =IF($D$34=0,0%,D25/$D$34) -> 0 | I25: =SUM(F25:H25) -> 0 | L25: =I25+K25 -> 0 | O25: DKK
E26: =IF($D$34=0,0%,D26/$D$34) -> 0 | I26: =SUM(F26:H26) -> 0 | L26: =I26+K26 -> 0 | O26: HUF
E27: =IF($D$34=0,0%,D27/$D$34) -> 0 | I27: =SUM(F27:H27) -> 0 | L27: =I27+K27 -> 0 | O27: JPY
E28: =IF($D$34=0,0%,D28/$D$34) -> 0 | I28: =SUM(F28:H28) -> 0 | L28: =I28+K28 -> 0 | O28: NOK
E29: =IF($D$34=0,0%,D29/$D$34) -> 0 | I29: =SUM(F29:H29) -> 0 | L29: =I29+K29 -> 0 | O29: SKK
E30: =IF($D$34=0,0%,D30/$D$34) -> 0 | I30: =SUM(F30:H30) -> 0 | L30: =I30+K30 -> 0 | O30: SEK
A31: Ostali | E31: =IF($D$34=0,0%,D31/$D$34) -> 0 | I31: =SUM(F31:H31) -> 0 | L31: =I31+K31 -> 0 | O31: CHF
A32: UKUPNO | C32: =SUM(C21:C31) -> 0 | D32: =SUM(D21:D31) -> 0 | E32: =IF(D34=0,0%,D32/D34) -> 0 | F32: =SUM(F21:F31) -> 0 | G32: =SUM(G21:G31) -> 0 | H32: =SUM(H21:H31) -> 0 | I32: =SUM(I21:I31) -> 0 | J32: =SUM(J21:J31) -> 0 | K32: =SUM(K21:K31) -> 0 | L32: =SUM(L21:L31) -> 0 | O32: GBP
A34: SVEUKUPNO | C34: =C32+C18 -> 0 | D34: =D32+D18 -> 0 | E34: =E32+E18 -> 0 | F34: =F32+F18 -> 0 | G34: =G32+G18 -> 0 | H34: =H32+H18 -> 0 | I34: =I32+I18 -> 0 | K34: =K32+K18 -> 0 | L34: =L32+L18 -> 0

Sheet Zaduženost
A1: STANJE KREDITNE ZADUŽENOSTI
L3: Stanje na zadnji dan u mjesecu:
A4: IME KLIJENTA: | C4: =Kupci!C4 -> 0 | L4: =Kupci!K4 -> 0
A6: KREDITI; LEASING; POZAJMICE | N6: OSIGURANJE
A7: Kreditor | B7: Vrsta kredita/ leasinga/ pozajmice | C7: Datum odobrenja | D7: Odobreni iznos (u valuti kredita) | E7: Stanje (u EUR) | F7: Dospjele obveze (u EUR) | G7: Dospjele obveze (dani) | H7: Način otplate | I7: Broj rata | J7: Iznos rate (u EUR) | K7: Krajnji rok dospjeća | L7: Kam. stopa % | M7: Naknada % | N7: Mjenice | O7: Zadužnice | P7: Nekretnina | Q7: Pokretnina | R7: Depozit | S7: Ostalo
U8: X
A31: Ostali
A32: UKUPNO | E32: =SUM(E8:E31) -> 0 | F32: =SUM(F8:F31) -> 0 | J32: =SUM(J8:J31) -> 0
A35: GARANCIJE I AKREDITIVI | H35: OSIGURANJE
A36: Vrsta garancije/Vrsta akreditiva | D36: Iznos garancije/akreditiva (u valuti) | E36: Iznos garancije/akreditiva (u EUR) | F36: Rok važenja garancije/ Datum dospijeća akreditiva | G36: Naknada % | H36: Mjenice | I36: Zadužnice | J36: Nekretnina | K36: Pokretnina | L36: Depozit | M36: Ostalo
A37: Garancija za ozbiljnost ponude
A38: Garancija za dobro izvršenje posla
A39: Garancija za otklanjanje nedostataka
A40: Garancija za uredan povrat avansa
A41: Garancija za uredno plaćanje obveza
A42: Garancija carinska
A43: Akreditiv s odgođenim polaganjem pokrića
A44: Akreditiv STAND BY
A45: UKUPNO GARANCIJE | E45: =SUMIF(A37:C44,"G*",E37:E44) -> 0
A46: UKUPNO AKREDITIVI | E46: =SUMIF(A37:C44,"A*",E37:E44) -> 0
A48: SVEUKUPNO | E48: =E45+E46 -> 0
A50: REVOLVING OKVIRI | I50: OSIGURANJE
A51: Banka | B51: Datum odobrenja | C51: Rok važenja okvira | D51: Odobreni iznos okvira (u EUR) | E51: Iznos iskorištenog okvira (u EUR) | F51: Namjena okvira (krediti, garancije, akreditivi, eskont mjenica, ostalo) | H51: Naknada % | I51: Mjenice | J51: Zadužnice | K51: Nekretnina | L51: Pokretnina | M51: Depozit | N51: Ostalo
A56: UKUPNO | D56: =SUM(D52:D55) -> 0 | E56: =SUM(E52:E55) -> 0

Sheet Imovina
A1: IMOVINA DRUŠTVA I OSTALI PODACI
J3: Stanje na zadnji dan u mjesecu:
A4: IME KLIJENTA: | B4: =Kupci!C4 -> 0 | J4: =Kupci!K4 -> 0
A6: POSLOVNI PROSTORI I ZEMLJIŠTA U VLASNIŠTVU | H6: POKRETNINE U VLASNIŠTVU
A7: Opis nekretnine | B7: Lokacija | C7: Površina u m2 | D7: Procijenjena vrijednost (EUR) | E7: Datum procjene | F7: Teret | H7: Opis pokretnine | L7: Starost | M7: Procijenjena vrijednost (EUR)
A13: UKUPNO | D13: =SUM(D8:D12) -> 0 | H13: UKUPNO | M13: =SUM(M8:M12) -> 0
A15: POSLOVNI PROSTORI UZETI U NAJAM
A16: Opis nekretnine | B16: Lokacija | C16: Površina u m2 | D16: Mjesečni najam | E16: Rok važenja najma | H16: OSTALI PODACI
H17: Ukupan broj zaposlenih:
P18: X
H19: Spremnost vlasnika da osobno jamči za obveze društva:
A21: UKUPNO | D21: =SUM(D17:D20) -> 0 | I21: DA | K21: NE
A23: IMOVINA U VLASNIŠTVU VLASNIKA/DIREKTORA TVRTKE (ako je sudužnik kao fizička osoba)
A24: Opis imovine | B24: Ime i prezime jamca | C24: Površina u m2 | D24: Procijenjena vrijednost (EUR) | E24: Datum procjene | F24: Teret
A29: UKUPNO | D29: =SUM(D25:D28) -> 0

Sheet Plan prihoda i rashoda
A1: PLAN PRIHODA I RASHODA
B4: IME KLIJENTA: | C4: =Kupci!C4 -> 0
C6: 2023 | D6: =+C6+1 -> 2024 | E6: =+D6+1 -> 2025 | F6: =+E6+1 -> 2026 | G6: =+F6+1 -> 2027 | H6: =+G6+1 -> 2028 | I6: =+H6+1 -> 2029 | J6: =+I6+1 -> 2030 | K6: =+J6+1 -> 2031
A7: A | B7: POSLOVNI PRIHODI (A1+A2+A3) | C7: =SUM(C8:C10) -> 0 | D7: =SUM(D8:D10) -> 0 | E7: =SUM(E8:E10) -> 0 | F7: =SUM(F8:F10) -> 0 | G7: =SUM(G8:G10) -> 0 | H7: =SUM(H8:H10) -> 0 | I7: =SUM(I8:I10) -> 0 | J7: =SUM(J8:J10) -> 0 | K7: =SUM(K8:K10) -> 0
A8: A1 | B8: Prihodi od prodaje | N8: BANCO POPOLARE CROATIA d.d.
A9: A2 | B9: Prihodi od usluga | N9: BANKA BROD d.d.
A10: A3 | B10: Ostali poslovni prihodi
A11: B | B11: POSLOVNI RASHODI (B1+B2+B3+B4+B5) | C11: =SUM(C12:C16) -> 0 | D11: =SUM(D12:D16) -> 0 | E11: =SUM(E12:E16) -> 0 | F11: =SUM(F12:F16) -> 0 | G11: =SUM(G12:G16) -> 0 | H11: =SUM(H12:H16) -> 0 | I11: =SUM(I12:I16) -> 0 | J11: =SUM(J12:J16) -> 0 | K11: =SUM(K12:K16) -> 0 | N11: BANKA KOVANICA d.d.
A12: B1 | B12: Materijalni troškovi | N12: BANKA SPLITSKO-DALMATINSKA d.d.
A13: B2 | B13: Najam prostora | N13: BKS BANK d.d.
A14: B3 | B14: Plaće | N14: CENTAR BANKA d.d.
A15: B4 | B15: Amortizacija | N15: CREDO BANKA d.d.
A16: B5 | B16: Ostali troškovi poslovanja | N16: CROATIA BANKA d.d.
A17: C | B17: OPERATIVNA DOBIT/GUBITAK (A-B) | C17: =C7-C11 -> 0 | D17: =D7-D11 -> 0 | E17: =E7-E11 -> 0 | F17: =F7-F11 -> 0 | G17: =G7-G11 -> 0 | H17: =H7-H11 -> 0 | I17: =I7-I11 -> 0 | J17: =J7-J11 -> 0 | K17: =K7-K11 -> 0 | N17: ERSTE & STEIERMÄRKISCHE BANK d.d.
A18: D | B18: Financijski prihodi | N18: HRVATSKA POŠTANSKA BANKA d.d.
A19: E | B19: Financijski rashodi | N19: HYPO ALPE-ADRIA-BANK d.d.
A20: F | B20: Izvanredni prihodi | N20: IMEX BANKA d.d.
A21: G | B21: Izvanredni rashodi | N21: ISTARSKA KREDITNA BANKA UMAG d.d.
A22: H | B22: UKUPNI PRIHODI (A+D+F) | C22: =C7+C18+C20 -> 0 | D22: =D7+D18+D20 -> 0 | E22: =E7+E18+E20 -> 0 | F22: =F7+F18+F20 -> 0 | G22: =G7+G18+G20 -> 0 | H22: =H7+H18+H20 -> 0 | I22: =I7+I18+I20 -> 0 | J22: =J7+J18+J20 -> 0 | K22: =K7+K18+K20 -> 0 | N22: JADRANSKA BANKA d.d.
A23: I | B23: UKUPNI RASHODI (B+E+G) | C23: =C11+C19+C21 -> 0 | D23: =D11+D19+D21 -> 0 | E23: =E11+E19+E21 -> 0 | F23: =F11+F19+F21 -> 0 | G23: =G11+G19+G21 -> 0 | H23: =H11+H19+H21 -> 0 | I23: =I11+I19+I21 -> 0 | J23: =J11+J19+J21 -> 0 | K23: =K11+K19+K21 -> 0 | N23: KARLOVAČKA BANKA d.d.
A24: J | B24: DOBITAK/GUBITAK PRIJE OPOREZIVANJA (H-I) | C24: =C22-C23 -> 0 | D24: =D22-D23 -> 0 | E24: =E22-E23 -> 0 | F24: =F22-F23 -> 0 | G24: =G22-G23 -> 0 | H24: =H22-H23 -> 0 | I24: =I22-I23 -> 0 | J24: =J22-J23 -> 0 | K24: =K22-K23 -> 0 | N24: KREDITNA BANKA ZAGREB d.d.
A25: K | B25: Porez na dobit | N25: MEĐIMURSKA BANKA d.d.
A26: L | B26: DOBITAK/GUBITAK NAKON OPOREZIVANJA (J-K) | C26: =C24-C25 -> 0 | D26: =D24-D25 -> 0 | E26: =E24-E25 -> 0 | F26: =F24-F25 -> 0 | G26: =G24-G25 -> 0 | H26: =H24-H25 -> 0 | I26: =I24-I25 -> 0 | J26: =J24-J25 -> 0 | K26: =K24-K25 -> 0 | N26: NAVA BANKA d.d.
H28: Stanje na zadnji dan u mjesecu:
A29: UGOVORENI POSLOVI | H29: =Kupci!K4 -> 0
A30: Naručitelj/ Investitor/ Kupac | B30: Vrsta (Ugovoreno / Planirano) | C30: Datum ugovaranja / Planirani datum sklapanja ugovora | E30: Ugovoreni iznos / Planirana vrijednost | F30: Datum početka radova | G30: Datum završetka radova | H30: Izvršeno u EUR | I30: Preostalo za završiti u EUR | J30: Postotak završenosti u % | K30: Naplaćeno do stanja na dan u EUR
I31: =E31-H31 -> 0 | J31: =+H31/E31 -> #DIV/0!
I32: =E32-H32 -> 0 | J32: =+H32/E32 -> #DIV/0!
I33: =E33-H33 -> 0 | J33: =+H33/E33 -> #DIV/0!
I34: =E34-H34 -> 0 | J34: =+H34/E34 -> #DIV/0!
I35: =E35-H35 -> 0 | J35: =+H35/E35 -> #DIV/0!
I36: =E36-H36 -> 0 | J36: =+H36/E36 -> #DIV/0!
I37: =E37-H37 -> 0 | J37: =+H37/E37 -> #DIV/0!
I38: =E38-H38 -> 0 | J38: =+H38/E38 -> #DIV/0!
I39: =E39-H39 -> 0 | J39: =+H39/E39 -> #DIV/0!
I40: =E40-H40 -> 0 | J40: =+H40/E40 -> #DIV/0!
I41: =E41-H41 -> 0 | J41: =+H41/E41 -> #DIV/0!
I42: =E42-H42 -> 0 | J42: =+H42/E42 -> #DIV/0!
I43: =E43-H43 -> 0 | J43: =+H43/E43 -> #DIV/0!
A44: Ukupno: | E44: =SUM(E31:E43) -> 0 | F44: - | H44: =SUM(H31:H43) -> 0 | I44: =SUM(I31:I43) -> 0 | J44: =H44/E44 -> #DIV/0! | K44: =SUM(K31:K43) -> 0
